Workbook

Sheet Table of contents
A1: Sheet | B1: Title
A2: Suppl. T1 | B2: ='Suppl. T1'!A1 -> Supplementary Table 1: Replication of GWAS findings from Liu et al. for number of drinks per week to number of drinks on a typical day of drinking in PLWH within and across ancestries.
A3: Suppl. T2 | B3: ='Suppl. T2'!A1 -> Supplementary Table 2: Replication of GWAS findings from Liu et al. for number of drinks per week to frequency of alcohol consumption standardized to alst 30 days in PLWH within and across ancestries.
A4: Suppl. T3 | B4: ='Suppl. T3'!A1 -> Supplementary Table 3: Replication of GWAS findings from Liu et al. for number of drinks per week to frequency of binge drinking (5+ drinks) standardized to alst 30 days in PLWH within and across ancestries.
A5: Suppl. T4 | B5: ='Suppl. T4'!A1 -> Supplementary Table 4:Replication of GWAS findings from Liu et al. for smoking initiation in PLWH within and across ancestries.
A6: Suppl. T5 | B6: ='Suppl. T5'!A1 -> Supplementary Table 5:Replication of GWAS findings from Liu et al. for smoking cessation in PLWH within and across ancestries.
A7: Suppl. T6 | B7: ='Suppl. T6'!A1 -> Supplementary Table 6:Replication of GWAS findings from Liu et al. for cigarettes per day in PLWH within and across ancestries.
A8: Suppl. T7 | B8: ='Suppl. T7'!A1 -> Supplementary Table 7: Replication of GWAS findings from Pasman et al. for lifetime cannabis use to cannabis initiation in PLWH within and across ancestries.
A9: Suppl. T8 | B9: ='Suppl. T8'!A1 -> Supplementary Table 8: Replication of GWAS findings from Pasman et al. for lifetime cannabis to cannabis cessation in PLWH within and across ancestries.
A10: Suppl. T9 | B10: ='Suppl. T9'!A1 -> Supplementary Table 9: Replication of GWAS findings from Pasman et al. for cannabis initiation to frequency of cannabis use standardized to last 30 days in PLWH within and across ancestries.

Sheet Suppl. T1
A1: Supplementary Table 1: Replication of GWAS findings from Liu et al. for number of drinks per week to number of drinks on a typical day of drinking in PLWH within and across ancestries. | E1: Liu | K1: MR-MEGA
A2: Chromosome | B2: Position | C2: MarkerName | D2: rsID | E2: RefAllele | F2: AltAllele | G2: Beta | H2: Gene | I2: Annotation | J2: P | K2: EA | L2: NEA | M2: MAF | N2: Nsample | O2: Ncohort | P2: Effects | Q2: Est | R2: Est.SE | S2: P
A3: 1 | B3: 4488393 | C3: chr1:4488393:A:G | D3: rs705687 | E3: A | F3: G | G3: -0.010904017 | H3: Intergenic | I3: Intergenic | J3: 8.1499999999999998E-10 | K3: G | L3: A | M3: 0.188061 | N3: 4701 | O3: 3 | P3: +++ | Q3: 0.0220381 | R3: 0.01281 | S3: 0.697656
A4: 1 | B4: 33371733 | C4: chr1:33371733:C:A | D4: rs58107686 | E4: C | F4: A | G4: -0.0097471263 | H4: Intron:PHC2 | I4: PHC2/NM_001330488:-:Intron|PHC2/NM_198040:-:Intron | J4: 7.79E-10 | K4: A | L4: C | M4: 0.253738 | N4: 4701 | O4: 3 | P4: +++ | Q4: 0.0643849 | R4: 0.0361426 | S4: 0.219323
A5: 1 | B5: 65942017 | C5: chr1:65942017:A:C | D5: rs12088813 | E5: A | F5: C | G5: -0.0093290467 | H5: Intron:PDE4B | I5: PDE4B/NM_001297440:+:Intron|PDE4B/NM_001037341:+:Intron|PDE4B/NM_002600:+:Intron|PDE4B/NM_001297441:+:Intron | J5: 1.5799999999999999E-8 | K5: C | L5: A | M5: 0.179898 | N5: 4701 | O5: 3 | P5: +-- | Q5: 0.014828 | R5: 0.0302402 | S5: 0.800999
A6: 1 | B6: 71026207 | C6: chr1:71026207:A:T | D6: rs5024204 | E6: A | F6: T | G6: 0.0097027105 | H6: Intron:PTGER3 | I6: PTGER3/NM_198717:-:Intron|PTGER3/NM_198716:-:Intron|PTGER3/NR_028293:-:Intron|PTGER3/NM_198714:-:Intron|PTGER3/NR_028292:-:Intron|PTGER3/NR_028294:-:Intron|PTGER3/NM_198718:-:Intron|PTGER3/NM_001126044:-:Intron|PTGER3/NM_198719:-:Intron|PTGER3/NM_198715:-:Intron | J6: 2.5500000000000001E-9 | K6: T | L6: A | M6: 0.289033 | N6: 4701 | O6: 3 | P6: -++ | Q6: 0.0358864 | R6: 0.0349985 | S6: 0.468867
A7: 1 | B7: 165150555 | C7: chr1:165150555:G:A | D7: rs10753661 | E7: G | F7: A | G7: -0.0086381276 | H7: Intergenic | I7: Intergenic | J7: 3.7599999999999999E-8 | K7: A | L7: G | M7: 0.214129 | N7: 4701 | O7: 3 | P7: --- | Q7: -0.123262 | R7: 0.0422909 | S7: 0.0262159
A8: 1 | B8: 173879670 | C8: chr1:173879670:G:A | D8: rs28680958 | E8: G | F8: A | G8: -0.010996457 | H8: Intron:ZBTB37 | I8: ZBTB37/NM_001346115:+:Intron|ZBTB37/NM_001122770:+:Intron | J8: 5.1299999999999999E-10 | K8: A | L8: G | M8: 0.295484 | N8: 4701 | O8: 3 | P8: -++ | Q8: -0.0320879 | R8: 0.0612378 | S8: 0.515829
A9: 1 | B9: 205750404 | C9: chr1:205750404:G:A | D9: rs823114 | E9: G | F9: A | G9: 0.0087677403 | H9: Intergenic | I9: Intergenic | J9: 2.3100000000000001E-9 | K9: A | L9: G | M9: 0.355416 | N9: 4701 | O9: 3 | P9: ++- | Q9: 0.0150785 | R9: 0.0559172 | S9: 0.750629
A10: 2 | B10: 27508073 | C10: chr2:27508073:T:C | D10: rs1260326 | E10: T | F10: C | G10: 0.020889835 | H10: Nonsynonymous:GCKR | I10: GCKR/NM_001486:+:Nonsynonymous(CTG/Leu/L->CCG/Pro/P:Base1338/1878:Codon446/626:Exon15/19):Normal_Splice_Site:Exon | J10: 8.0500000000000002E-45 | K10: C | L10: T | M10: 0.279535 | N10: 4701 | O10: 3 | P10: --- | Q10: -0.0443476 | R10: 0.013994 | S10: 0.380786
A11: 2 | B11: 27637684 | C11: chr2:27637684:A:G | D11: rs2178197 | E11: A | F11: G | G11: -0.0087814446 | H11: Intron:GPN1 | I11: GPN1/NM_001145049:+:Intron|GPN1/NM_001145048:+:Intron|GPN1/NM_001145047:+:Intron|GPN1/NR_026735:+:Intron|GPN1/NM_007266:+:Intron | J11: 2.45E-9 | K11: G | L11: A | M11: 0.417467 | N11: 4701 | O11: 3 | P11: --- | Q11: -0.0303235 | R11: 0.00738319 | S11: 0.493148
A12: 2 | B12: 44928137 | C12: chr2:44928137:C:T | D12: rs13383034 | E12: C | F12: T | G12: 0.014926977 | H12: Intron:LINC01833 | I12: LINC01833/NR_147195:-:Intron | J12: 6.3099999999999997E-22 | K12: T | L12: C | M12: 0.283751 | N12: 4701 | O12: 3 | P12: --+ | Q12: -0.0360472 | R12: 0.024405 | S12: 0.466442
A13: 2 | B13: 44931952 | C13: chr2:44931952:G:A | D13: rs1004787 | E13: G | F13: A | G13: 0.0084428354 | H13: Intron:LINC01833 | I13: LINC01833/NR_147195:-:Intron|LINC01833/NR_147194:-:Intron | J13: 8.4000000000000008E-9 | K13: A | L13: G | M13: 0.297292 | N13: 4701 | O13: 3 | P13: +-- | Q13: 0.0268029 | R13: 0.0723596 | S13: 0.602117
A14: 2 | B14: 63354372 | C14: chr2:63354372:A:G | D14: rs13032049 | E14: A | F14: G | G14: 0.01019455 | H14: Intron:WDPCP | I14: WDPCP/NR_122106:-:Intron|WDPCP/NM_001042692:-:Intron|WDPCP/NR_148705:-:Intron|WDPCP/NM_015910:-:Intron|WDPCP/NM_001354044:-:Intron|WDPCP/NR_148704:-:Intron | J14: 3E-10 | K14: G | L14: A | M14: 0.19609 | N14: 4701 | O14: 3 | P14: -+- | Q14: -0.04423 | R14: 0.0934272 | S14: 0.452893
... A90: 22 | B90: 41550515 | C90: chr22:41550515:C:A | D90: rs9607814 | E90: C | F90: A | G90: -0.010181001 | H90: Intergenic | I90: Intergenic | J90: 4.3100000000000002E-8 | K90: A | L90: C | M90: 0.188495 | N90: 4701 | O90: 3 | P90: --+ | Q90: -0.0733268 | R90: 0.0559132 | S90: 0.21272
A91: Total number of SNPs with p-value<0.01 | S91: =COUNTIF(S3:S90, "<0.01") -> 1

Sheet Suppl. T2
A1: Supplementary Table 2: Replication of GWAS findings from Liu et al. for number of drinks per week to frequency of alcohol consumption standardized to alst 30 days in PLWH within and across ancestries. | E1: Liu | K1: MR-MEGA
A2: Chromosome | B2: Position | C2: MarkerName | D2: rsID | E2: RefAllele | F2: AltAllele | G2: Beta | H2: Gene | I2: Annotation | J2: P | K2: EA | L2: NEA | M2: MAF | N2: Nsample | O2: Ncohort | P2: Effects | Q2: Est | R2: Est.SE | S2: P
A3: 1 | B3: 4488393 | C3: chr1:4488393:A:G | D3: rs705687 | E3: A | F3: G | G3: -0.010904017 | H3: Intergenic | I3: Intergenic | J3: 8.15e-10 | K3: G | L3: A | M3: 0.188072 | N3: 4712 | O3: 3 | P3: --+ | Q3: 0.0248451 | R3: 0.0322863 | S3: 0.266403
A4: 1 | B4: 33371733 | C4: chr1:33371733:C:A | D4: rs58107686 | E4: C | F4: A | G4: -0.0097471263 | H4: Intron:PHC2 | I4: PHC2/NM_001330488:-:Intron|PHC2/NM_198040:-:Intron | J4: 7.79e-10 | K4: A | L4: C | M4: 0.253724 | N4: 4712 | O4: 3 | P4: -++ | Q4: -0.00104318 | R4: 0.0158383 | S4: 0.959725
A5: 1 | B5: 65942017 | C5: chr1:65942017:A:C | D5: rs12088813 | E5: A | F5: C | G5: -0.0093290467 | H5: Intron:PDE4B | I5: PDE4B/NM_001297440:+:Intron|PDE4B/NM_001037341:+:Intron|PDE4B/NM_002600:+:Intron|PDE4B/NM_001297441:+:Intron | J5: 1.58e-08 | K5: C | L5: A | M5: 0.17991 | N5: 4712 | O5: 3 | P5: +-+ | Q5: 0.0122504 | R5: 0.00789599 | S5: 0.596527
A6: 1 | B6: 71026207 | C6: chr1:71026207:A:T | D6: rs5024204 | E6: A | F6: T | G6: 0.0097027105 | H6: Intron:PTGER3 | I6: PTGER3/NM_198717:-:Intron|PTGER3/NM_198716:-:Intron|PTGER3/NR_028293:-:Intron|PTGER3/NM_198714:-:Intron|PTGER3/NR_028292:-:Intron|PTGER3/NR_028294:-:Intron|PTGER3/NM_198718:-:Intron|PTGER3/NM_001126044:-:Intron|PTGER3/NM_198719:-:Intron|PTGER3/NM_198715:-:Intron | J6: 2.55e-09 | K6: T | L6: A | M6: 0.289004 | N6: 4712 | O6: 3 | P6: -++ | Q6: 0.0267864 | R6: 0.0246431 | S6: 0.169057
A7: 1 | B7: 165150555 | C7: chr1:165150555:G:A | D7: rs10753661 | E7: G | F7: A | G7: -0.0086381276 | H7: Intergenic | I7: Intergenic | J7: 3.76e-08 | K7: A | L7: G | M7: 0.21415 | N7: 4712 | O7: 3 | P7: +-- | Q7: 0.0102971 | R7: 0.020395 | S7: 0.636943
A8: 1 | B8: 173879670 | C8: chr1:173879670:G:A | D8: rs28680958 | E8: G | F8: A | G8: -0.010996457 | H8: Intron:ZBTB37 | I8: ZBTB37/NM_001346115:+:Intron|ZBTB37/NM_001122770:+:Intron | J8: 5.13e-10 | K8: A | L8: G | M8: 0.295485 | N8: 4712 | O8: 3 | P8: --- | Q8: -0.0131203 | R8: 0.00449916 | S8: 0.497636
A9: 1 | B9: 205750404 | C9: chr1:205750404:G:A | D9: rs823114 | E9: G | F9: A | G9: 0.0087677403 | H9: Intergenic | I9: Intergenic | J9: 2.31e-09 | K9: A | L9: G | M9: 0.355409 | N9: 4712 | O9: 3 | P9: +++ | Q9: 0.0112015 | R9: 0.0075839 | S9: 0.549169
A10: 2 | B10: 27508073 | C10: chr2:27508073:T:C | D10: rs1260326 | E10: T | F10: C | G10: 0.020889835 | H10: Nonsynonymous:GCKR | I10: GCKR/NM_001486:+:Nonsynonymous(CTG/Leu/L->CCG/Pro/P:Base1338/1878:Codon446/626:Exon15/19):Normal_Splice_Site:Exon | J10: 8.05e-45 | K10: C | L10: T | M10: 0.279538 | N10: 4712 | O10: 3 | P10: --- | Q10: -0.0355073 | R10: 0.00591599 | S10: 0.0750891
A11: 2 | B11: 27637684 | C11: chr2:27637684:A:G | D11: rs2178197 | E11: A | F11: G | G11: -0.0087814446 | H11: Intron:GPN1 | I11: GPN1/NM_001145049:+:Intron|GPN1/NM_001145048:+:Intron|GPN1/NM_001145047:+:Intron|GPN1/NR_026735:+:Intron|GPN1/NM_007266:+:Intron | J11: 2.45e-09 | K11: G | L11: A | M11: 0.417459 | N11: 4712 | O11: 3 | P11: --+ | Q11: -0.0184546 | R11: 0.0158048 | S11: 0.289171
A12: 2 | B12: 44928137 | C12: chr2:44928137:C:T | D12: rs13383034 | E12: C | F12: T | G12: 0.014926977 | H12: Intron:LINC01833 | I12: LINC01833/NR_147195:-:Intron | J12: 6.31e-22 | K12: T | L12: C | M12: 0.283737 | N12: 4712 | O12: 3 | P12: -++ | Q12: 0.0198053 | R12: 0.0158312 | S12: 0.309456
A13: 2 | B13: 44931952 | C13: chr2:44931952:G:A | D13: rs1004787 | E13: G | F13: A | G13: 0.0084428354 | H13: Intron:LINC01833 | I13: LINC01833/NR_147195:-:Intron|LINC01833/NR_147194:-:Intron | J13: 8.4e-09 | K13: A | L13: G | M13: 0.297327 | N13: 4712 | O13: 3 | P13: +-+ | Q13: 0.030331 | R13: 0.0245467 | S13: 0.134468
A14: 2 | B14: 63354372 | C14: chr2:63354372:A:G | D14: rs13032049 | E14: A | F14: G | G14: 0.01019455 | H14: Intron:WDPCP | I14: WDPCP/NR_122106:-:Intron|WDPCP/NM_001042692:-:Intron|WDPCP/NR_148705:-:Intron|WDPCP/NM_015910:-:Intron|WDPCP/NM_001354044:-:Intron|WDPCP/NR_148704:-:Intron | J14: 3e-10 | K14: G | L14: A | M14: 0.196078 | N14: 4712 | O14: 3 | P14: ++- | Q14: 0.00930278 | R14: 0.0172089 | S14: 0.689699
... A30: 4 | B30: 99078985 | C30: chr4:99078985:T:C | D30: rs1154414 | E30: T | F30: C | G30: 0.017630373 | H30: Intron:ADH5 | I30: ADH5/NM_000671:-:Intron | J30: 3.74e-17 | K30: C | L30: T | M30: 0.0855426 | N30: 4712 | O30: 3 | P30: +-- | Q30: -0.0163217 | R30: 0.038631 | S30: 0.611194
A31: 4 | B31: 99318162 | C31: chr4:99318162:T:C | D31: rs1229984 | E31: T | F31: C | G31: 0.15053357 | H31: Nonsynonymous:ADH1B | I31: ADH1B/NM_000668:-:Nonsynonymous(CAC/His/H->CGC/Arg/R:Base144/1128:Codon48/376:Exon3/9):Exon|ADH1B/NM_001286650:-:Nonsynonymous(CAC/His/H->CGC/Arg/R:Base24/1008:Codon8/336:Exon4/10):Exon | J31: <2.2e-308 | K31: C | L31: T | M31: 0.0345777 | N31: 4712 | O31: 3 | P31: +++ | Q31: 0.111884 | R31: 0.0550682 | S31: 0.0304241
A32: 4 | B32: 99333363 | C32: chr4:99333363:G:A | D32: rs10028756 | E32: G | F32: A | G32: -0.018574761 | H32: Intergenic | I32: Intergenic | J32: 1.16e-17 | K32: A | L32: G | M32: 0.0774923 | N32: 4712 | O32: 3 | P32: +-- | Q32: -0.021067 | R32: 0.0325364 | S32: 0.52585
A33: 4 | B33: 99339522 | C33: chr4:99339522:C:T | D33: rs561222871 | E33: C | F33: T | G33: -0.038806771 | H33: Intron:ADH1C | I33: ADH1C/NR_133005:-:Intron|ADH1C/NM_000669:-:Intron | J33: 6.56e-27 | K33: T | L33: C | M33: 0.0915107 | N33: 4712 | O33: 3 | P33: --+ | Q33: -0.0257006 | R33: 0.0221174 | S33: 0.420148
A34: 4 | B34: 99352437 | C34: chr4:99352437:A:G | D34: rs36052336 | E34: A | F34: G | G34: -0.018428809 | H34: Intron:ADH1C | I34: ADH1C/NR_133005:-:Intron|ADH1C/NM_000669:-:Intron | J34: 1.23e-09 | K34: G | L34: A | M34: 0.0325393 | N34: 4712 | O34: 3 | P34: --+ | Q34: -0.0117725 | R34: 0.049971 | S34: 0.811216
A35: 4 | B35: 99364928 | C35: chr4:99364928:G:A | D35: rs2165670 | E35: G | F35: A | G35: 0.02308038 | H35: Intergenic | I35: Intergenic | J35: 1.67e-22 | K35: A | L35: G | M35: 0.0765393 | N35: 4712 | O35: 3 | P35: ++- | Q35: 0.00804407 | R35: 0.0377695 | S35: 0.814134
A36: 4 | B36: 99522696 | C36: chr4:99522696:A:G | D36: rs17029090 | E36: A | F36: G | G36: -0.049127366 | H36: Synonymous:C4orf17 | I36: C4orf17/NM_032149:+:Synonymous(CCA/Pro/P->CCG/Pro/P:Base325/1080:Codon109/360:Exon3/9):Exon | J36: 4.75e-21 | K36: G | L36: A | M36: 0.116986 | N36: 4712 | O36: 3 | P36: -++ | Q36: -0.0464231 | R36: 0.020104 | S36: 0.0996224
A37: 4 | B37: 99523206 | C37: chr4:99523206:A:T | D37: rs79139602 | E37: A | F37: T | G37: 0.06027231 | H37: Intron:C4orf17 | I37: C4orf17/NM_032149:+:Intron | J37: 1.8e-32 | K37: T | L37: A | M37: 0.0927317 | N37: 4712 | O37: 3 | P37: --+ | Q37: -0.071268 | R37: 0.0261465 | S37: 0.0193092
A38: 4 | B38: 100321866 | C38: chr4:100321866:G:A | D38: rs4699791 | E38: G | F38: A | G38: 0.018570721 | H38: Intergenic | I38: Intergenic | J38: 6.58e-14 | K38: A | L38: G | M38: 0.12427 | N38: 4712 | O38: 3 | P38: -++ | Q38: 0.0102533 | R38: 0.00873215 | S38: 0.713958
A39: 4 | B39: 102267552 | C39: chr4:102267552:C:T | D39: rs13107325 | E39: C | F39: T | G39: -0.027504515 | H39: Nonsynonymous:SLC39A8 | I39: SLC39A8/NM_001135147:-:Nonsynonymous(GCT/Ala/A->ACT/Thr/T:Base1172/1335:Codon391/445:Exon8/11):Exon|SLC39A8/NM_022154:-:Nonsynonymous(GCT/Ala/A->ACT/Thr/T:Base1172/1383:Codon391/461:Exon7/8):Exon|SLC39A8/NM_001135148:-:Nonsynonymous(GCT/Ala/A->ACT/Thr/T:Base971/1182:Codon324/394:Exon7/8):Exon|SLC39A8/NM_001135146:-:Nonsynonymous(GCT/Ala/A->ACT/Thr/T:Base1172/1383:Codon391/461:Exon8/9):Exon | J39: 1.53e-22 | K39: T | L39: C | M39: 0.0481733 | N39: 4712 | O39: 3 | P39: +++ | Q39: 0.0498319 | R39: 0.0247333 | S39: 0.222946
A40: 4 | B40: 142727426 | C40: chr4:142727426:C:G | D40: rs4690727 | E40: C | F40: G | G40: 0.010816985 | H40: Intron:INPP4B | I40: INPP4B/NM_001101669:-:Intron|INPP4B/NM_003866:-:Intron|INPP4B/NM_001331040:-:Intron | J40: 2.43e-11 | K40: G | L40: C | M40: 0.223505 | N40: 4712 | O40: 3 | P40: --+ | Q40: 0.00106816 | R40: 0.0119155 | S40: 0.959414
A41: 4 | B41: 152047220 | C41: chr4:152047220:G:A | D41: rs10004020 | E41: G | F41: A | G41: 0.0090523329 | H41: Intergenic | I41: Intergenic | J41: 2.43e-08 | K41: A | L41: G | M41: 0.280652 | N41: 4712 | O41: 3 | P41: +-- | Q41: -0.0273461 | R41: 0.0250756 | S41: 0.158604
A42: 4 | B42: 170165242 | C42: chr4:170165242:C:G | D42: rs12651313 | E42: C | F42: G | G42: -0.0086429274 | H42: Intergenic | I42: Intergenic | J42: 3.79e-09 | K42: G | L42: C | M42: 0.398239 | N42: 4712 | O42: 3 | P42: --+ | Q42: -0.00509796 | R42: 0.0413406 | S42: 0.773016
A43: 5 | B43: 88558577 | C43: chr5:88558577:A:C | D43: rs4916723 | E43: A | F43: C | G43: -0.0099522574 | H43: Intron:LINC00461 | I43: LINC00461/NR_152239:-:Intron|LINC00461/NR_152235:-:Intron|LINC00461/NR_152243:-:Intron|LINC00461/NR_152242:-:Intron|LINC00461/NR_152238:-:Intron|LINC00461/NR_015436:-:Intron | J43: 1.72e-11 | K43: C | L43: A | M43: 0.311099 | N43: 4712 | O43: 3 | P43: ++- | Q43: -0.00160448 | R43: 0.022126 | S43: 0.935393
... A90: 22 | B90: 41550515 | C90: chr22:41550515:C:A | D90: rs9607814 | E90: C | F90: A | G90: -0.010181001 | H90: Intergenic | I90: Intergenic | J90: 4.31e-08 | K90: A | L90: C | M90: 0.188458 | N90: 4712 | O90: 3 | P90: +-+ | Q90: 0.0127633 | R90: 0.0154512 | S90: 0.581212
A91: Total number of SNPs with p-value<0.01 | S91: =COUNTIF(S3:S90, "<0.01") -> 0

Sheet Suppl. T3
A1: Supplementary Table 3: Replication of GWAS findings from Liu et al. for number of drinks per week to frequency of binge drinking (5+ drinks) standardized to alst 30 days in PLWH within and across ancestries. | E1: Liu | K1: MR-MEGA
A2: Chromosome | B2: Position | C2: MarkerName | D2: rsID | E2: RefAllele | F2: AltAllele | G2: Beta | H2: Gene | I2: Annotation | J2: P | K2: EA | L2: NEA | M2: MAF | N2: Nsample | O2: Ncohort | P2: Effects | Q2: Est | R2: Est.SE | S2: P
A3: 1 | B3: 4488393 | C3: chr1:4488393:A:G | D3: rs705687 | E3: A | F3: G | G3: -0.010904017 | H3: Intergenic | I3: Intergenic | J3: 8.15e-10 | K3: G | L3: A | M3: 0.188089 | N3: 4705 | O3: 3 | P3: --+ | Q3: -0.0324013 | R3: 0.0330615 | S3: 0.558069
A4: 1 | B4: 33371733 | C4: chr1:33371733:C:A | D4: rs58107686 | E4: C | F4: A | G4: -0.0097471263 | H4: Intron:PHC2 | I4: PHC2/NM_001330488:-:Intron|PHC2/NM_198040:-:Intron | J4: 7.79e-10 | K4: A | L4: C | M4: 0.25375 | N4: 4705 | O4: 3 | P4: --+ | Q4: -0.0201663 | R4: 0.0155347 | S4: 0.693435
A5: 1 | B5: 65942017 | C5: chr1:65942017:A:C | D5: rs12088813 | E5: A | F5: C | G5: -0.0093290467 | H5: Intron:PDE4B | I5: PDE4B/NM_001297440:+:Intron|PDE4B/NM_001037341:+:Intron|PDE4B/NM_002600:+:Intron|PDE4B/NM_001297441:+:Intron | J5: 1.58e-08 | K5: C | L5: A | M5: 0.179946 | N5: 4705 | O5: 3 | P5: --- | Q5: -0.0774544 | R5: 0.0253217 | S5: 0.175698
A6: 1 | B6: 71026207 | C6: chr1:71026207:A:T | D6: rs5024204 | E6: A | F6: T | G6: 0.0097027105 | H6: Intron:PTGER3 | I6: PTGER3/NM_198717:-:Intron|PTGER3/NM_198716:-:Intron|PTGER3/NR_028293:-:Intron|PTGER3/NM_198714:-:Intron|PTGER3/NR_028292:-:Intron|PTGER3/NR_028294:-:Intron|PTGER3/NM_198718:-:Intron|PTGER3/NM_001126044:-:Intron|PTGER3/NM_198719:-:Intron|PTGER3/NM_198715:-:Intron | J6: 2.55e-09 | K6: T | L6: A | M6: 0.288992 | N6: 4705 | O6: 3 | P6: +-+ | Q6: 0.00901524 | R6: 0.0278202 | S6: 0.851406
A7: 1 | B7: 165150555 | C7: chr1:165150555:G:A | D7: rs10753661 | E7: G | F7: A | G7: -0.0086381276 | H7: Intergenic | I7: Intergenic | J7: 3.76e-08 | K7: A | L7: G | M7: 0.214196 | N7: 4705 | O7: 3 | P7: -+- | Q7: -0.0661636 | R7: 0.0348827 | S7: 0.219501
A8: 1 | B8: 173879670 | C8: chr1:173879670:G:A | D8: rs28680958 | E8: G | F8: A | G8: -0.010996457 | H8: Intron:ZBTB37 | I8: ZBTB37/NM_001346115:+:Intron|ZBTB37/NM_001122770:+:Intron | J8: 5.13e-10 | K8: A | L8: G | M8: 0.295458 | N8: 4705 | O8: 3 | P8: --- | Q8: -0.0888106 | R8: 0.0167628 | S8: 0.0633957
A9: 1 | B9: 205750404 | C9: chr1:205750404:G:A | D9: rs823114 | E9: G | F9: A | G9: 0.0087677403 | H9: Intergenic | I9: Intergenic | J9: 2.31e-09 | K9: A | L9: G | M9: 0.35544 | N9: 4705 | O9: 3 | P9: +++ | Q9: 0.0966759 | R9: 0.0128525 | S9: 0.0365557
A10: 2 | B10: 27508073 | C10: chr2:27508073:T:C | D10: rs1260326 | E10: T | F10: C | G10: 0.020889835 | H10: Nonsynonymous:GCKR | I10: GCKR/NM_001486:+:Nonsynonymous(CTG/Leu/L->CCG/Pro/P:Base1338/1878:Codon446/626:Exon15/19):Normal_Splice_Site:Exon | J10: 8.05e-45 | K10: C | L10: T | M10: 0.279582 | N10: 4705 | O10: 3 | P10: -++ | Q10: 0.0239919 | R10: 0.0520913 | S10: 0.627159
A11: 2 | B11: 27637684 | C11: chr2:27637684:A:G | D11: rs2178197 | E11: A | F11: G | G11: -0.0087814446 | H11: Intron:GPN1 | I11: GPN1/NM_001145049:+:Intron|GPN1/NM_001145048:+:Intron|GPN1/NM_001145047:+:Intron|GPN1/NR_026735:+:Intron|GPN1/NM_007266:+:Intron | J11: 2.45e-09 | K11: G | L11: A | M11: 0.417458 | N11: 4705 | O11: 3 | P11: -++ | Q11: 0.0175597 | R11: 0.0520313 | S11: 0.683447
A12: 2 | B12: 44928137 | C12: chr2:44928137:C:T | D12: rs13383034 | E12: C | F12: T | G12: 0.014926977 | H12: Intron:LINC01833 | I12: LINC01833/NR_147195:-:Intron | J12: 6.31e-22 | K12: T | L12: C | M12: 0.283749 | N12: 4705 | O12: 3 | P12: --+ | Q12: -0.0306305 | R12: 0.0375088 | S12: 0.525208
A13: 2 | B13: 44931952 | C13: chr2:44931952:G:A | D13: rs1004787 | E13: G | F13: A | G13: 0.0084428354 | H13: Intron:LINC01833 | I13: LINC01833/NR_147195:-:Intron|LINC01833/NR_147194:-:Intron | J13: 8.4e-09 | K13: A | L13: G | M13: 0.297401 | N13: 4705 | O13: 3 | P13: +-+ | Q13: 0.0274654 | R13: 0.0211263 | S13: 0.583894
A14: 2 | B14: 63354372 | C14: chr2:63354372:A:G | D14: rs13032049 | E14: A | F14: G | G14: 0.01019455 | H14: Intron:WDPCP | I14: WDPCP/NR_122106:-:Intron|WDPCP/NM_001042692:-:Intron|WDPCP/NR_148705:-:Intron|WDPCP/NM_015910:-:Intron|WDPCP/NM_001354044:-:Intron|WDPCP/NR_148704:-:Intron | J14: 3e-10 | K14: G | L14: A | M14: 0.196109 | N14: 4705 | O14: 3 | P14: --- | Q14: -0.139314 | R14: 0.0393391 | S14: 0.0155625
... A30: 4 | B30: 99078985 | C30: chr4:99078985:T:C | D30: rs1154414 | E30: T | F30: C | G30: 0.017630373 | H30: Intron:ADH5 | I30: ADH5/NM_000671:-:Intron | J30: 3.74e-17 | K30: C | L30: T | M30: 0.0855608 | N30: 4705 | O30: 3 | P30: +-+ | Q30: 0.0703305 | R30: 0.12067 | S30: 0.376369
A31: 4 | B31: 99318162 | C31: chr4:99318162:T:C | D31: rs1229984 | E31: T | F31: C | G31: 0.15053357 | H31: Nonsynonymous:ADH1B | I31: ADH1B/NM_000668:-:Nonsynonymous(CAC/His/H->CGC/Arg/R:Base144/1128:Codon48/376:Exon3/9):Exon|ADH1B/NM_001286650:-:Nonsynonymous(CAC/His/H->CGC/Arg/R:Base24/1008:Codon8/336:Exon4/10):Exon | J31: <2.2e-308 | K31: C | L31: T | M31: 0.0345746 | N31: 4705 | O31: 3 | P31: -++ | Q31: 0.259376 | R31: 0.151927 | S31: 0.0439861
A32: 4 | B32: 99333363 | C32: chr4:99333363:G:A | D32: rs10028756 | E32: G | F32: A | G32: -0.018574761 | H32: Intergenic | I32: Intergenic | J32: 1.16e-17 | K32: A | L32: G | M32: 0.0775124 | N32: 4705 | O32: 3 | P32: ++- | Q32: 0.0628236 | R32: 0.0867591 | S32: 0.444694
A33: 4 | B33: 99339522 | C33: chr4:99339522:C:T | D33: rs561222871 | E33: C | F33: T | G33: -0.038806771 | H33: Intron:ADH1C | I33: ADH1C/NR_133005:-:Intron|ADH1C/NM_000669:-:Intron | J33: 6.56e-27 | K33: T | L33: C | M33: 0.0914869 | N33: 4705 | O33: 3 | P33: --+ | Q33: -0.100171 | R33: 0.0898315 | S33: 0.205846
A34: 4 | B34: 99352437 | C34: chr4:99352437:A:G | D34: rs36052336 | E34: A | F34: G | G34: -0.018428809 | H34: Intron:ADH1C | I34: ADH1C/NR_133005:-:Intron|ADH1C/NM_000669:-:Intron | J34: 1.23e-09 | K34: G | L34: A | M34: 0.0325524 | N34: 4705 | O34: 3 | P34: ++- | Q34: 0.0439492 | R34: 0.0883594 | S34: 0.716893
A35: 4 | B35: 99364928 | C35: chr4:99364928:G:A | D35: rs2165670 | E35: G | F35: A | G35: 0.02308038 | H35: Intergenic | I35: Intergenic | J35: 1.67e-22 | K35: A | L35: G | M35: 0.0765526 | N35: 4705 | O35: 3 | P35: --+ | Q35: -0.00362494 | R35: 0.0821967 | S35: 0.965872
A36: 4 | B36: 99522696 | C36: chr4:99522696:A:G | D36: rs17029090 | E36: A | F36: G | G36: -0.049127366 | H36: Synonymous:C4orf17 | I36: C4orf17/NM_032149:+:Synonymous(CCA/Pro/P->CCG/Pro/P:Base325/1080:Codon109/360:Exon3/9):Exon | J36: 4.75e-21 | K36: G | L36: A | M36: 0.116949 | N36: 4705 | O36: 3 | P36: +++ | Q36: 0.0873468 | R36: 0.00760259 | S36: 0.210133
A37: 4 | B37: 99523206 | C37: chr4:99523206:A:T | D37: rs79139602 | E37: A | F37: T | G37: 0.06027231 | H37: Intron:C4orf17 | I37: C4orf17/NM_032149:+:Intron | J37: 1.8e-32 | K37: T | L37: A | M37: 0.0927043 | N37: 4705 | O37: 3 | P37: +++ | Q37: 0.0521797 | R37: 0.0461662 | S37: 0.488482
A38: 4 | B38: 100321866 | C38: chr4:100321866:G:A | D38: rs4699791 | E38: G | F38: A | G38: 0.018570721 | H38: Intergenic | I38: Intergenic | J38: 6.58e-14 | K38: A | L38: G | M38: 0.124245 | N38: 4705 | O38: 3 | P38: -+- | Q38: -0.0792391 | R38: 0.134642 | S38: 0.253893
A39: 4 | B39: 102267552 | C39: chr4:102267552:C:T | D39: rs13107325 | E39: C | F39: T | G39: -0.027504515 | H39: Nonsynonymous:SLC39A8 | I39: SLC39A8/NM_001135147:-:Nonsynonymous(GCT/Ala/A->ACT/Thr/T:Base1172/1335:Codon391/445:Exon8/11):Exon|SLC39A8/NM_022154:-:Nonsynonymous(GCT/Ala/A->ACT/Thr/T:Base1172/1383:Codon391/461:Exon7/8):Exon|SLC39A8/NM_001135148:-:Nonsynonymous(GCT/Ala/A->ACT/Thr/T:Base971/1182:Codon324/394:Exon7/8):Exon|SLC39A8/NM_001135146:-:Nonsynonymous(GCT/Ala/A->ACT/Thr/T:Base1172/1383:Codon391/461:Exon8/9):Exon | J39: 1.53e-22 | K39: T | L39: C | M39: 0.0481856 | N39: 4705 | O39: 3 | P39: --- | Q39: -0.0664209 | R39: 0.0390996 | S39: 0.510974
A40: 4 | B40: 142727426 | C40: chr4:142727426:C:G | D40: rs4690727 | E40: C | F40: G | G40: 0.010816985 | H40: Intron:INPP4B | I40: INPP4B/NM_001101669:-:Intron|INPP4B/NM_003866:-:Intron|INPP4B/NM_001331040:-:Intron | J40: 2.43e-11 | K40: G | L40: C | M40: 0.223533 | N40: 4705 | O40: 3 | P40: -++ | Q40: 0.0134753 | R40: 0.0576405 | S40: 0.795297
A41: 4 | B41: 152047220 | C41: chr4:152047220:G:A | D41: rs10004020 | E41: G | F41: A | G41: 0.0090523329 | H41: Intergenic | I41: Intergenic | J41: 2.43e-08 | K41: A | L41: G | M41: 0.280646 | N41: 4705 | O41: 3 | P41: --- | Q41: -0.047116 | R41: 0.0100483 | S41: 0.326586
A42: 4 | B42: 170165242 | C42: chr4:170165242:C:G | D42: rs12651313 | E42: C | F42: G | G42: -0.0086429274 | H42: Intergenic | I42: Intergenic | J42: 3.79e-09 | K42: G | L42: C | M42: 0.398254 | N42: 4705 | O42: 3 | P42: +-+ | Q42: 0.034269 | R42: 0.0673329 | S42: 0.433022
A43: 5 | B43: 88558577 | C43: chr5:88558577:A:C | D43: rs4916723 | E43: A | F43: C | G43: -0.0099522574 | H43: Intron:LINC00461 | I43: LINC00461/NR_152239:-:Intron|LINC00461/NR_152235:-:Intron|LINC00461/NR_152243:-:Intron|LINC00461/NR_152242:-:Intron|LINC00461/NR_152238:-:Intron|LINC00461/NR_015436:-:Intron | J43: 1.72e-11 | K43: C | L43: A | M43: 0.311137 | N43: 4705 | O43: 3 | P43: +-- | Q43: -0.0568795 | R43: 0.0546346 | S43: 0.245056
... A90: 22 | B90: 41550515 | C90: chr22:41550515:C:A | D90: rs9607814 | E90: C | F90: A | G90: -0.010181001 | H90: Intergenic | I90: Intergenic | J90: 4.31e-08 | K90: A | L90: C | M90: 0.188448 | N90: 4705 | O90: 3 | P90: -++ | Q90: -0.0322078 | R90: 0.0490998 | S90: 0.573996
A91: Total number of SNPs with p-value<0.01 | S91: =COUNTIF(S3:S90, "<0.01") -> 0

Sheet Suppl. T4
A1: Supplementary Table 4:Replication of GWAS findings from Liu et al. for smoking initiation in PLWH within and across ancestries. | E1: Liu | K1: MR-MEGA
A2: Chromosome | B2: Position | C2: MarkerName | D2: rsID | E2: RefAllele | F2: AltAllele | G2: Beta | H2: Gene | I2: Annotation | J2: P | K2: EA | L2: NEA | M2: MAF | N2: Nsample | O2: Ncohort | P2: Effects | Q2: Est | R2: Est.SE | S2: P
A3: 1 | B3: 7731401 | C3: chr1:7731401:G:A | D3: rs12130857 | E3: G | F3: A | G3: -0.018003137 | H3: Intron:CAMTA1 | I3: CAMTA1/NM_001349608:+:Intron|CAMTA1/NM_001349609:+:Intron|CAMTA1/NM_015215:+:Intron|CAMTA1/NM_001349612:+:Intron|CAMTA1/NM_001349610:+:Intron|CAMTA1/NM_001349623:+:Intron|CAMTA1/NM_001349614:+:Intron|CAMTA1/NM_001349621:+:Intron|CAMTA1/NM_001349620:+:Intron|CAMTA1/NM_001349625:+:Intron|CAMTA1/NM_001349617:+:Intron|CAMTA1/NM_001349613:+:Intron|CAMTA1/NM_001349624:+:Intron|CAMTA1/NM_001349618:+:Intron|CAMTA1/NM_001349626:+:Intron|CAMTA1/NM_001349615:+:Intron|CAMTA1/NM_001349619:+:Intron|CAMTA1/NM_001349616:+:Intron|CAMTA1/NM_001349622:+:Intron | J3: 3.65e-11 | K3: A | L3: G | M3: 0.353238 | N3: 7542 | O3: 3 | P3: +++ | Q3: 0.016936 | R3: 0.00679428 | S3: 0.643941
A4: 1 | B4: 8424763 | C4: chr1:8424763:A:G | D4: rs301807 | E4: A | F4: G | G4: 0.018014408 | H4: Intron:LOC102724552|RERE | I4: RERE/NM_001042681:-:Intron|RERE/NM_012102:-:Intron|LOC102724552/NR_125999:+:Intron | J4: 2.5e-12 | K4: G | L4: A | M4: 0.367372 | N4: 7542 | O4: 3 | P4: ++- | Q4: 0.0405299 | R4: 0.0415787 | S4: 0.267339
A5: 1 | B5: 18110163 | C5: chr1:18110163:G:T | D5: rs3820277 | E5: G | F5: T | G5: -0.018836917 | H5: Intron:IGSF21 | I5: IGSF21/NM_032880:+:Intron | J5: 1.57e-13 | K5: T | L5: G | M5: 0.452348 | N5: 7542 | O5: 3 | P5: --- | Q5: -0.0996758 | R5: 0.03086 | S5: 0.00467775
A6: 1 | B6: 31730218 | C6: chr1:31730218:T:G | D6: rs1889571 | E6: T | F6: G | G6: 0.0221798 | H6: Intron:ADGRB2 | I6: ADGRB2/NM_001294336:-:Intron|ADGRB2/NM_001294335:-:Intron | J6: 4.19e-09 | K6: G | L6: T | M6: 0.0992389 | N6: 7542 | O6: 3 | P6: +++ | Q6: 0.0855155 | R6: 0.0546831 | S6: 0.148986
A7: 1 | B7: 33329971 | C7: chr1:33329971:G:A | D7: rs10914684 | E7: G | F7: A | G7: -0.015803843 | H7: Intron:PHC2 | I7: PHC2/NM_004427:-:Intron|PHC2/NM_001330488:-:Intron|PHC2/NM_198040:-:Intron | J7: 6.32e-09 | K7: A | L7: G | M7: 0.204994 | N7: 7542 | O7: 3 | P7: --- | Q7: -0.0559612 | R7: 0.0193875 | S7: 0.224475
A8: 1 | B8: 38291565 | C8: chr1:38291565:G:A | D8: rs2637869 | E8: G | F8: A | G8: 0.018220138 | H8: Intergenic | I8: Intergenic | J8: 6.54e-11 | K8: A | L8: G | M8: 0.284867 | N8: 7542 | O8: 3 | P8: -++ | Q8: 0.0228325 | R8: 0.0158219 | S8: 0.558
A9: 1 | B9: 41310951 | C9: chr1:41310951:A:G | D9: rs12755632 | E9: A | F9: G | G9: -0.015405137 | H9: Intergenic | I9: Intergenic | J9: 1.93e-08 | K9: G | L9: A | M9: 0.258881 | N9: 7542 | O9: 3 | P9: --+ | Q9: -0.0191409 | R9: 0.0262465 | S9: 0.634143
A10: 1 | B10: 43546066 | C10: chr1:43546066:G:A | D10: rs951740 | E10: G | F10: A | G10: 0.029540867 | H10: Intron:PTPRF | I10: PTPRF/NM_001329137:+:Intron|PTPRF/NM_001329138:+:Intron|PTPRF/NM_001329140:+:Intron|PTPRF/NM_001329139:+:Intron|PTPRF/NM_130440:+:Intron|PTPRF/NM_002840:+:Intron | J10: 3.82e-29 | K10: A | L10: G | M10: 0.322992 | N10: 7542 | O10: 3 | P10: -++ | Q10: 0.050606 | R10: 0.0505595 | S10: 0.174852
A11: 1 | B11: 46031037 | C11: chr1:46031037:A:G | D11: rs925524 | E11: A | F11: G | G11: 0.015557314 | H11: Synonymous:MAST2 | I11: MAST2/NM_001324320:+:Synonymous(TCA/Ser/S->TCG/Ser/S:Base2761/5418:Codon921/1806:Exon24/30):Exon|MAST2/NM_015112:+:Synonymous(TCA/Ser/S->TCG/Ser/S:Base2740/5397:Codon914/1799:Exon23/29):Exon|MAST2/NM_001319245:+:Synonymous(TCA/Ser/S->TCG/Ser/S:Base2740/5394:Codon914/1798:Exon23/29):Exon|MAST2/NM_001324321:+:Synonymous(TCA/Ser/S->TCG/Ser/S:Base2278/4935:Codon760/1645:Exon23/29):Exon | J11: 2.94e-08 | K11: G | L11: A | M11: 0.333928 | N11: 7542 | O11: 3 | P11: +-- | Q11: 0.017227 | R11: 0.0215299 | S11: 0.647363
A12: 1 | B12: 50138323 | C12: chr1:50138323:A:C | D12: rs12022778 | E12: A | F12: C | G12: 0.026824801 | H12: Intron:ELAVL4 | I12: ELAVL4/NM_001324208:+:Intron|ELAVL4/NM_001144777:+:Intron|ELAVL4/NM_001144776:+:Intron|ELAVL4/NM_001144775:+:Intron|ELAVL4/NM_001324216:+:Intron|ELAVL4/NM_001324209:+:Intron|ELAVL4/NM_001144774:+:Intron|ELAVL4/NM_021952:+:Intron|ELAVL4/NM_001324212:+:Intron|ELAVL4/NM_001324217:+:Intron|ELAVL4/NR_136725:+:Intron|ELAVL4/NM_001324215:+:Intron|ELAVL4/NM_001324213:+:Intron|ELAVL4/NM_001294348:+:Intron|ELAVL4/NM_001324214:+:Intron | J12: 3.18e-17 | K12: C | L12: A | M12: 0.214149 | N12: 7542 | O12: 3 | P12: +-+ | Q12: 0.0571059 | R12: 0.0286889 | S12: 0.179436
A13: 1 | B13: 50395399 | C13: chr1:50395399:A:T | D13: rs11587399 | E13: A | F13: T | G13: -0.017804557 | H13: Intergenic | I13: Intergenic | J13: 7.25e-09 | K13: T | L13: A | M13: 0.147418 | N13: 7542 | O13: 3 | P13: -++ | Q13: 0.0838023 | R13: 0.0454265 | S13: 0.0925397
A14: 1 | B14: 58349571 | C14: chr1:58349571:C:T | D14: rs4912332 | E14: C | F14: T | G14: 0.014120925 | H14: Intergenic | I14: Intergenic | J14: 2.94e-08 | K14: T | L14: C | M14: 0.460569 | N14: 7542 | O14: 3 | P14: --+ | Q14: -0.0492203 | R14: 0.0506174 | S14: 0.158268
... A352: 22 | B352: 46046408 | C352: chr22:46046408:G:C | D352: rs9627272 | E352: G | F352: C | G352: -0.015473696 | H352: Intergenic | I352: Intergenic | J352: 2.42e-09 | K352: C | L352: G | M352: 0.29976 | N352: 7542 | O352: 3 | P352: +-- | Q352: -0.0146968 | R352: 0.0785491 | S352: 0.725823
A353: Total number of SNPs with p-value<0.01 | S353: =COUNTIF(S3:S352, "<0.01") -> 9

Sheet Suppl. T5
A1: Supplementary Table 5:Replication of GWAS findings from Liu et al. for smoking cessation in PLWH within and across ancestries. | E1: Liu | K1: MR-MEGA
A2: Chromosome | B2: Position | C2: MarkerName | D2: rsID | E2: RefAllele | F2: AltAllele | G2: Beta | H2: Gene | I2: Annotation | J2: P | K2: EA | L2: NEA | M2: MAF | N2: Nsample | O2: Ncohort | P2: Effects | Q2: Est | R2: Est.SE | S2: P
A3: 2 | B3: 23730584 | C3: chr2:23730584:T:A | D3: rs112187834 | E3: T | F3: A | G3: 0.033409725 | H3: Intergenic | I3: Intergenic | J3: 2.81e-09 | K3: A | L3: T | M3: 0.111243 | N3: 7542 | O3: 3 | P3: --- | Q3: -0.0766812 | R3: 0.0290275 | S3: 0.168066
A4: 3 | B4: 49173299 | C4: chr3:49173299:A:C | D4: rs7617480 | E4: A | F4: C | G4: -0.032870839 | H4: Intron:KLHDC8B | I4: KLHDC8B/NM_173546:+:Intron | J4: 1.68e-12 | K4: C | L4: A | M4: 0.274255 | N4: 7542 | O4: 3 | P4: --- | Q4: -0.049645 | R4: 0.0225678 | S4: 0.217573
A5: 6 | B5: 396321 | C5: chr6:396321:C:T | D5: rs12203592 | E5: C | F5: T | G5: -0.029209259 | H5: Intron:IRF4 | I5: IRF4/NM_002460:+:Intron|IRF4/NM_001195286:+:Intron|IRF4/NR_046000:+:Intron | J5: 1.21e-08 | K5: T | L5: C | M5: 0.0976582 | N5: 7542 | O5: 3 | P5: +-- | Q5: -0.112524 | R5: 0.1051 | S5: 0.0677688
A6: 6 | B6: 35090340 | C6: chr6:35090340:A:G | D6: rs707968 | E6: A | F6: G | G6: 0.023270684 | H6: Utr3:ANKS1A | I6: ANKS1A/NM_015245:+:Utr3:Exon | J6: 2.76e-08 | K6: G | L6: A | M6: 0.327041 | N6: 7542 | O6: 3 | P6: -+- | Q6: 0.00360082 | R6: 0.036381 | S6: 0.922063
A7: 7 | B7: 32275078 | C7: chr7:32275078:T:C | D7: rs7778443 | E7: T | F7: C | G7: -0.022999045 | H7: Intron:PDE1C | I7: PDE1C/NM_001191058:-:Intron|PDE1C/NM_001322058:-:Intron|PDE1C/NM_001322059:-:Intron | J7: 1.04e-08 | K7: C | L7: T | M7: 0.299679 | N7: 7542 | O7: 3 | P7: +-- | Q7: 0.000828192 | R7: 0.0558103 | S7: 0.983306
A8: 8 | B8: 27568560 | C8: chr8:27568560:T:A | D8: rs1565735 | E8: T | F8: A | G8: -0.034557395 | H8: Intergenic | I8: Intergenic | J8: 1.54e-12 | K8: A | L8: T | M8: 0.286792 | N8: 7542 | O8: 3 | P8: --- | Q8: -0.102688 | R8: 0.0973676 | S8: 0.00827611
A9: 8 | B9: 42747525 | C9: chr8:42747525:A:T | D9: rs60749569 | E9: A | F9: T | G9: -0.040071278 | H9: Intergenic | I9: Intergenic | J9: 2.68e-08 | K9: T | L9: A | M9: 0.139548 | N9: 7542 | O9: 3 | P9: -++ | Q9: 0.00314071 | R9: 0.0289446 | S9: 0.951965
A10: 9 | B10: 125154978 | C10: chr9:125154978:G:A | D10: rs12378015 | E10: G | F10: A | G10: -0.027659567 | H10: Intron:PPP6C | I10: PPP6C/NM_001123369:-:Intron|PPP6C/NM_002721:-:Intron|PPP6C/NM_001123355:-:Intron | J10: 8.31e-11 | K10: A | L10: G | M10: 0.173977 | N10: 7542 | O10: 3 | P10: +-- | Q10: -0.0191741 | R10: 0.0152181 | S10: 0.693021
A11: 9 | B11: 133596729 | C11: chr9:133596729:G:A | D11: rs9409844 | E11: G | F11: A | G11: -0.058561329 | H11: Intergenic | I11: Intergenic | J11: 4.37e-10 | K11: A | L11: G | M11: 0.0922461 | N11: 7542 | O11: 3 | P11: +-- | Q11: -0.0873588 | R11: 0.122946 | S11: 0.146619
A12: 9 | B12: 133602222 | C12: chr9:133602222:G:C | D12: rs3025327 | E12: G | F12: C | G12: 0.078586334 | H12: Intergenic | I12: Intergenic | J12: 1.19e-35 | K12: C | L12: G | M12: 0.0606393 | N12: 7542 | O12: 3 | P12: +++ | Q12: 0.116157 | R12: 0.0102987 | S12: 0.125442
A13: 9 | B13: 133608450 | C13: chr9:133608450:A:C | D13: rs10821523 | E13: A | F13: C | G13: 0.026156628 | H13: Intergenic | I13: Intergenic | J13: 2.28e-11 | K13: C | L13: A | M13: 0.271905 | N13: 7542 | O13: 3 | P13: --- | Q13: -0.0616833 | R13: 0.03377 | S13: 0.159322
A14: 9 | B14: 133644153 | C14: chr9:133644153:G:T | D14: rs1611124 | E14: G | F14: T | G14: -0.045337557 | H14: Intron:DBH | I14: DBH/NM_000787:+:Intron | J14: 5.26e-09 | K14: T | L14: G | M14: 0.0567491 | N14: 7542 | O14: 3 | P14: --- | Q14: -0.082691 | R14: 0.0297515 | S14: 0.273912
... A23: 22 | B23: 41458442 | C23: chr22:41458442:C:T | D23: rs9607805 | E23: C | F23: T | G23: 0.029540752 | H23: Intergenic | I23: Intergenic | J23: 1.37e-11 | K23: T | L23: C | M23: 0.350238 | N23: 7542 | O23: 3 | P23: +++ | Q23: 0.0800871 | R23: 0.0239073 | S23: 0.0356149
A24: Total number of SNPs with p-value<0.01 | S24: =COUNTIF(S3:S23, "<0.01") -> 2

Sheet Suppl. T6
A1: Supplementary Table 6:Replication of GWAS findings from Liu et al. for cigarettes per day in PLWH within and across ancestries. | E1: Liu | K1: MR-MEGA
A2: Chromosome | B2: Position | C2: MarkerName | D2: rsID | E2: RefAllele | F2: AltAllele | G2: Beta | H2: Gene | I2: Annotation | J2: P | K2: EA | L2: NEA | M2: MAF | N2: Nsample | O2: Ncohort | P2: Effects | Q2: Est | R2: Est.SE | S2: P
A3: 1 | B3: 154576045 | C3: chr1:154576045:C:G | D3: rs2072659 | E3: C | F3: G | G3: -0.029984204 | H3: Utr3:CHRNB2 | I3: CHRNB2/NM_000748:+:Utr3:Exon | J3: 2.51e-13 | K3: G | L3: C | M3: 0.0769824 | N3: 4745 | O3: 3 | P3: --- | Q3: -0.186564 | R3: 0.0598735 | S3: 0.029832
A4: 1 | B4: 176024684 | C4: chr1:176024684:C:T | D4: rs34973462 | E4: C | F4: T | G4: 0.015072901 | H4: Intron:RFWD2 | I4: RFWD2/NM_001286644:-:Intron|RFWD2/NM_001001740:-:Intron|RFWD2/NM_022457:-:Intron | J4: 5.85e-09 | K4: T | L4: C | M4: 0.322829 | N4: 4745 | O4: 3 | P4: --- | Q4: -0.0466093 | R4: 0.0164656 | S4: 0.32514
A5: 2 | B5: 60491212 | C5: chr2:60491212:C:T | D5: rs7599488 | E5: C | F5: T | G5: 0.014121279 | H5: Intron:BCL11A | I5: BCL11A/NM_018014:-:Intron|BCL11A/NM_138559:-:Intron|BCL11A/NM_022893:-:Intron | J5: 8.95e-09 | K5: T | L5: C | M5: 0.383926 | N5: 4745 | O5: 3 | P5: +-- | Q5: -0.0210956 | R5: 0.0384541 | S5: 0.644319
A6: 2 | B6: 62483473 | C6: chr2:62483473:C:T | D6: rs78408772 | E6: C | F6: T | G6: -0.021996434 | H6: Intergenic | I6: Intergenic | J6: 4.51e-08 | K6: T | L6: C | M6: 0.0754739 | N6: 4745 | O6: 3 | P6: +++ | Q6: 0.101241 | R6: 0.0975414 | S6: 0.233267
A7: 2 | B7: 147615152 | C7: chr2:147615152:A:G | D7: rs10204824 | E7: A | F7: G | G7: -0.017977732 | H7: Intergenic | I7: Intergenic | J7: 1.35e-12 | K7: G | L7: A | M7: 0.402309 | N7: 4745 | O7: 3 | P7: -++ | Q7: -0.00158843 | R7: 0.0545017 | S7: 0.972271
A8: 3 | B8: 16831428 | C8: chr3:16831428:T:C | D8: rs2084533 | E8: C | F8: T | G8: 0.016117557 | H8: Intergenic | I8: Intergenic | J8: 6.53e-10 | K8: C | L8: T | M8: 0.390366 | N8: 4745 | O8: 3 | P8: +++ | Q8: 0.0779417 | R8: 0.0413462 | S8: 0.0874547
A9: 3 | B9: 48898150 | C9: chr3:48898150:G:A | D9: rs7431710 | E9: G | F9: A | G9: -0.018289817 | H9: Intron:SLC25A20 | I9: SLC25A20/NM_000387:-:Intron | J9: 1.04e-12 | K9: A | L9: G | M9: 0.404533 | N9: 4745 | O9: 3 | P9: -++ | Q9: 0.0334906 | R9: 0.0351474 | S9: 0.465691
A10: 3 | B10: 50383650 | C10: chr3:50383650:T:C | D10: rs2236951 | E10: T | F10: C | G10: -0.017190571 | H10: Intron:CACNA2D2 | I10: CACNA2D2/NM_001291101:-:Intron|CACNA2D2/NM_001005505:-:Intron|CACNA2D2/NM_006030:-:Intron|CACNA2D2/NM_001174051:-:Intron | J10: 1.59e-08 | K10: C | L10: T | M10: 0.352666 | N10: 4745 | O10: 3 | P10: -++ | Q10: 0.0237257 | R10: 0.101492 | S10: 0.622696
A11: 3 | B11: 136505855 | C11: chr3:136505855:A:G | D11: rs699165 | E11: A | F11: G | G11: 0.016118656 | H11: Intron:STAG1 | I11: STAG1/NM_005862:-:Intron | J11: 8.09e-09 | K11: G | L11: A | M11: 0.28672 | N11: 4745 | O11: 3 | P11: -+- | Q11: -0.0289696 | R11: 0.0483452 | S11: 0.560355
A12: 3 | B12: 158366129 | C12: chr3:158366129:G:A | D12: rs28813180 | E12: G | F12: A | G12: -0.015495869 | H12: Intron:RSRC1 | I12: RSRC1/NM_001271834:+:Intron|RSRC1/NM_016625:+:Intron|RSRC1/NM_001271838:+:Intron | J12: 1.95e-10 | K12: A | L12: G | M12: 0.393062 | N12: 4745 | O12: 3 | P12: --+ | Q12: -0.0202922 | R12: 0.0326033 | S12: 0.662592
A13: 4 | B13: 3004316 | C13: chr4:3004316:C:T | D13: rs1024323 | E13: C | F13: T | G13: -0.014415942 | H13: Nonsynonymous:GRK4 | I13: GRK4/NM_001350173:+:Utr5:Exon|GRK4/NM_005307:+:Nonsynonymous(GCC/Ala/A->GTC/Val/V:Base330/1503:Codon110/501:Exon4/14):Exon|GRK4/NM_001004056:+:Nonsynonymous(GCC/Ala/A->GTC/Val/V:Base330/1641:Codon110/547:Exon4/15):Exon|GRK4/NM_001004057:+:Nonsynonymous(GCC/Ala/A->GTC/Val/V:Base426/1599:Codon142/533:Exon5/15):Exon|GRK4/NM_182982:+:Nonsynonymous(GCC/Ala/A->GTC/Val/V:Base426/1737:Codon142/579:Exon5/16):Exon | J13: 8.66e-09 | K13: T | L13: C | M13: 0.390662 | N13: 4745 | O13: 3 | P13: --- | Q13: -0.01837 | R13: 0.0109001 | S13: 0.685955
A14: 4 | B14: 66220570 | C14: chr4:66220570:G:A | D14: rs11940255 | E14: G | F14: A | G14: -0.017157526 | H14: Intergenic | I14: Intergenic | J14: 2.2e-10 | K14: A | L14: G | M14: 0.369194 | N14: 4745 | O14: 3 | P14: --- | Q14: -0.0642939 | R14: 0.0265565 | S14: 0.159585
... A53: 21 | B53: 39148857 | C53: chr21:39148857:A:C | D53: rs7281463 | E53: A | F53: C | G53: 0.013677968 | H53: Intergenic | I53: Intergenic | J53: 3.15e-08 | K53: C | L53: A | M53: 0.408137 | N53: 4745 | O53: 3 | P53: -++ | Q53: 0.01337 | R53: 0.0187437 | S53: 0.765671
A54: Total number of SNPs with p-value<0.01 | S54: =COUNTIF(S3:S53, "<0.01") -> 0

Sheet Suppl. T7
A1: Supplementary Table 7: Replication of GWAS findings from Pasman et al. for lifetime cannabis use to cannabis initiation in PLWH within and across ancestries. | F1: Pasman | K1: MR-MEGA | T1: AFR | Y1: AMR | AD1: EUR
A2: Chromosome | B2: Position | C2: MarkerName | D2: rsID | E2: Locus | F2: A1 | G2: A2 | H2: Gene | I2: Beta | J2: P | K2: EA | L2: NEA | M2: MAF | N2: Nsample | O2: Ncohort | P2: Effects | Q2: Est | R2: Est.SE | S2: P | T2: n.obs | U2: Est | V2: Est.SE | W2: MAF | X2: P | Y2: n.obs | Z2: Est | AA2: Est.SE | AB2: MAF | AC2: P | AD2: n.obs | AE2: Est | AF2: Est.SE | AG2: MAF | AH2: P
A3: 3 | B3: 85469430 | C3: chr3:85469430:A:G | D3: rs2875907 | E3: 3p12.1 | F3: A | G3: G | H3: CADM2 | I3: 0.07 | J3: 9.38 × 10–17 | K3: G | L3: A | M3: 0.373018 | N3: 7280 | O3: 3 | P3: ++- | Q3: -0.0275617 | R3: 0.076134 | S3: 0.461698 | T3: 3553 | U3: 0.043299996 | V3: 0.049904246 | W3: 0.40630999 | X3: 0.38557963 | Y3: 1319 | Z3: 0.024740245 | AA3: 0.094086146 | AB3: 0.31353 | AC3: 0.79258672 | AD3: 2408 | AE3: -0.20050347 | AF3: 0.070943294 | AG3: 0.35648 | AH3: 0.0047096528
A4: 3 | B4: 85731304 | C4: chr3:85731304:A:G | D4: rs1448602 | E4: 3p12.1 | F4: A | G4: G | H4: CADM2 | I4: –0.062 | J4: 6.55 × 10–11 | K4: G | L4: A | M4: 0.145026 | N4: 7280 | O4: 3 | P4: +++ | Q4: 0.0887914 | R4: 0.0378542 | S4: 0.107186 | T4: 3553 | U4: 0.0053067016 | V4: 0.1021086 | W4: 0.067939997 | X4: 0.95855168 | Y4: 1319 | Z4: 0.12243875 | AA4: 0.11952963 | AB4: 0.18104 | AC4: 0.30567562 | AD4: 2408 | AE4: 0.12340897 | AF4: 0.078260093 | AG4: 0.23904 | AH4: 0.1148167
A5: 3 | B5: 85008198 | C5: chr3:85008198:G:T | D5: rs7651996 | E5: 3p12.1 | F5: T | G5: G | H5: CADM2 | I5: 0.049 | J5: 2.37 × 10–9 | K5: T | L5: G | M5: 0.443142 | N5: 7280 | O5: 3 | P5: +-+ | Q5: 0.0437591 | R5: 0.0468697 | S5: 0.229576 | T5: 3553 | U5: 0.034241901 | V5: 0.049502576 | W5: 0.42872 | X5: 0.48911344 | Y5: 1319 | Z5: -0.071379683 | AA5: 0.088511467 | AB5: 0.42511001 | AC5: 0.41998596 | AD5: 2408 | AE5: 0.12894835 | AF5: 0.067711546 | AG5: 0.4743 | AH5: 0.056861026
A6: 7 | B6: 3595079 | C6: chr7:3595079:A:T | D6: rs10085617 | E6: 7p22.2 | F6: A | G6: T | H6: SDK1 | I6: 0.046 | J6: 2.93 × 10–8 | K6: T | L6: A | M6: 0.31993 | N6: 7280 | O6: 3 | P6: +-+ | Q6: 0.0474058 | R6: 0.0620137 | S6: 0.233444 | T6: 3553 | U6: 0.022335788 | V6: 0.058803949 | W6: 0.23122001 | X6: 0.70406803 | Y6: 1319 | Z6: -0.087220307 | AA6: 0.091016886 | AB6: 0.37355 | AC6: 0.33791801 | AD6: 2408 | AE6: 0.15333738 | AF6: 0.067137842 | AG6: 0.42144999 | AH6: 0.022376301
A7: 8 | B7: 80653457 | C7: chr8:80653457:T:C | D7: rs9773390 | E7: 8q21.13 | F7: T | G7: C | H7: ZNF704 | I7: –0.171 | J7: 5.66 × 10–9 | K7: C | L7: T | M7: 0.211585 | N7: 7280 | O7: 3 | P7: --+ | Q7: -0.000992477 | R7: 0.031505 | S7: 0.982593 | T7: 3553 | U7: -0.014298295 | V7: 0.050287464 | W7: 0.36311999 | X7: 0.77615657 | Y7: 1319 | Z7: -0.037807987 | AA7: 0.16634434 | AB7: 0.074579999 | AC7: 0.8202002 | AD7: 2408 | AE7: 0.12649176 | AF7: 0.13906397 | AG7: 0.063040003 | AH7: 0.36303665
A8: 11 | B8: 113006686 | C8: chr11:113006686:T:C | D8: rs9919557 | E8: 11q23.2 | F8: T | G8: C | H8: NCAM1 | I8: –0.055 | J8: 9.94 × 10–11 | K8: C | L8: T | M8: 0.408248 | N8: 7280 | O8: 3 | P8: ++- | Q8: 0.0252022 | R8: 0.0334818 | S8: 0.492758 | T8: 3553 | U8: 0.008783879 | V8: 0.050232631 | W8: 0.39579001 | X8: 0.86118649 | Y8: 1319 | Z8: 0.12708292 | AA8: 0.087839881 | AB8: 0.45997 | AC8: 0.14796513 | AD8: 2408 | AE8: -0.0059691898 | AF8: 0.068221755 | AG8: 0.39829999 | AH8: 0.93027658
A9: 16 | B9: 28904206 | C9: chr16:28904206:G:A | D9: rs10499 | E9: 16p11.2 | F9: A | G9: G | H9: RABEP2, ATP2A1 | I9: 0.053 | J9: 1.13 × 10–9 | K9: A | L9: G | M9: 0.231825 | N9: 7280 | O9: 3 | P9: --+ | Q9: 0.0182038 | R9: 0.0632419 | S9: 0.709868 | T9: 3553 | U9: -0.076216484 | V9: 0.098571451 | W9: 0.087549999 | X9: 0.43939779 | Y9: 1319 | Z9: -0.061937046 | AA9: 0.094767357 | AB9: 0.38416001 | AC9: 0.51338925 | AD9: 2408 | AE9: 0.10984745 | AF9: 0.07011553 | AG9: 0.36126 | AH9: 0.11719334
A10: 17 | B10: 2203796 | C10: chr17:2203796:C:T | D10: rs17761723 | E10: 17p13.3 | F10: T | G10: C | H10: SMG6 | I10: 0.047 | J10: 3.24 × 10–8 | K10: T | L10: C | M10: 0.222583 | N10: 7280 | O10: 3 | P10: -+- | Q10: 0.0371002 | R10: 0.0784874 | S10: 0.444621 | T10: 3553 | U10: -0.041972463 | V10: 0.10134423 | W10: 0.071730003 | X10: 0.67875884 | Y10: 1319 | Z10: 0.21057777 | AA10: 0.090110818 | AB10: 0.38773999 | AC10: 0.019445652 | AD10: 2408 | AE10: -0.029884694 | AF10: 0.07001266 | AG10: 0.3547 | AH10: 0.66949077
A11: Total SNPs with p-value < 0.01 | S11: =COUNTIF(S3:S10, "<0.01") -> 0 | X11: =COUNTIF(X3:X10, "<0.01") -> 0 | AC11: =COUNTIF(AC3:AC10, "<0.01") -> 0 | AH11: =COUNTIF(AH3:AH10, "<0.01") -> 1

Sheet Suppl. T8
A1: Supplementary Table 8: Replication of GWAS findings from Pasman et al. for lifetime cannabis to cannabis cessation in PLWH within and across ancestries. | F1: Pasman | K1: MR-MEGA | T1: AFR | Y1: AMR | AD1: EUR
A2: Chromosome | B2: Position | C2: MarkerName | D2: rsID | E2: Locus | F2: A1 | G2: A2 | H2: Gene | I2: Beta | J2: P | K2: EA | L2: NEA | M2: MAF | N2: Nsample | O2: Ncohort | P2: Effects | Q2: Est | R2: Est.SE | S2: P | T2: n.obs | U2: Est | V2: Est.SE | W2: MAF | X2: P | Y2: n.obs | Z2: Est | AA2: Est.SE | AB2: MAF | AC2: P | AD2: n.obs | AE2: Est | AF2: Est.SE | AG2: MAF | AH2: P
A3: 3 | B3: 85469430 | C3: chr3:85469430:A:G | D3: rs2875907 | E3: 3p12.1 | F3: A | G3: G | H3: CADM2 | I3: 0.07 | J3: 9.38 × 10–17 | K3: G | L3: A | M3: 0.370686 | N3: 4576 | O3: 3 | P3: -++ | Q3: 0.0146169 | R3: 0.0458678 | S3: 0.745271 | T3: 1995 | U3: -0.05265636 | V3: 0.066348895 | W3: 0.40630999 | X3: 0.42741186 | Y3: 801 | Z3: 0.1111978 | AA3: 0.11205793 | AB3: 0.31353 | AC3: 0.32103941 | AD3: 1780 | AE3: 0.055161479 | AF3: 0.073085822 | AG3: 0.35648 | AH3: 0.45039937
A4: 3 | B4: 85731304 | C4: chr3:85731304:A:G | D4: rs1448602 | E4: 3p12.1 | F4: A | G4: G | H4: CADM2 | I4: –0.062 | J4: 6.55 × 10–11 | K4: G | L4: A | M4: 0.154293 | N4: 4576 | O4: 3 | P4: --- | Q4: -0.145502 | R4: 0.0392336 | S4: 0.0176605 | T4: 1995 | U4: -0.17056159 | V4: 0.13265101 | W4: 0.067939997 | X4: 0.19851568 | Y4: 801 | Z4: -0.24124785 | AA4: 0.13559365 | AB4: 0.18104 | AC4: 0.07520742 | AD4: 1780 | AE4: -0.10263015 | AF4: 0.080402736 | AG4: 0.23904 | AH4: 0.20179615
A5: 3 | B5: 85008198 | C5: chr3:85008198:G:T | D5: rs7651996 | E5: 3p12.1 | F5: T | G5: G | H5: CADM2 | I5: 0.049 | J5: 2.37 × 10–9 | K5: T | L5: G | M5: 0.445818 | N5: 4576 | O5: 3 | P5: --- | Q5: -0.0539475 | R5: 0.00955239 | S5: 0.21907 | T5: 1995 | U5: -0.039762721 | V5: 0.067265544 | W5: 0.42872 | X5: 0.55443292 | Y5: 801 | Z5: -0.075636506 | AA5: 0.1028632 | AB5: 0.42511001 | AC5: 0.46214971 | AD5: 1780 | AE5: -0.059280491 | AF5: 0.070104157 | AG5: 0.4743 | AH5: 0.39777262
A6: 7 | B6: 3595079 | C6: chr7:3595079:A:T | D6: rs10085617 | E6: 7p22.2 | F6: A | G6: T | H6: SDK1 | I6: 0.046 | J6: 2.93 × 10–8 | K6: T | L6: A | M6: 0.330131 | N6: 4576 | O6: 3 | P6: --- | Q6: -0.0929552 | R6: 0.0530564 | S6: 0.0501572 | T6: 1995 | U6: -0.10076026 | V6: 0.080139319 | W6: 0.23122001 | X6: 0.20864008 | Y6: 801 | Z6: -0.23460052 | AA6: 0.10968547 | AB6: 0.37355 | AC6: 0.032448007 | AD6: 1780 | AE6: -0.029639611 | AF6: 0.069818652 | AG6: 0.42144999 | AH6: 0.67118457
A7: 8 | B7: 80653457 | C7: chr8:80653457:T:C | D7: rs9773390 | E7: 8q21.13 | F7: T | G7: C | H7: ZNF704 | I7: –0.171 | J7: 5.66 × 10–9 | K7: C | L7: T | M7: 0.195886 | N7: 4576 | O7: 3 | P7: --+ | Q7: -0.0746677 | R7: 0.0391843 | S7: 0.208446 | T7: 1995 | U7: -0.10702802 | V7: 0.069034367 | W7: 0.36311999 | X7: 0.1210555 | Y7: 801 | Z7: -0.011314024 | AA7: 0.20529179 | AB7: 0.074579999 | AC7: 0.9560493 | AD7: 1780 | AE7: 0.030589988 | AF7: 0.14109912 | AG7: 0.063040003 | AH7: 0.82836588
A8: 11 | B8: 113006686 | C8: chr11:113006686:T:C | D8: rs9919557 | E8: 11q23.2 | F8: T | G8: C | H8: NCAM1 | I8: –0.055 | J8: 9.94 × 10–11 | K8: C | L8: T | M8: 0.408001 | N8: 4576 | O8: 3 | P8: --+ | Q8: -0.00569774 | R8: 0.0351129 | S8: 0.89822 | T8: 1995 | U8: -0.028882363 | V8: 0.068705478 | W8: 0.39579001 | X8: 0.67420836 | Y8: 801 | Z8: -0.078216563 | AA8: 0.10512137 | AB8: 0.45997 | AC8: 0.45684044 | AD8: 1780 | AE8: 0.051207613 | AF8: 0.070423662 | AG8: 0.39829999 | AH8: 0.46714236
A9: 16 | B9: 28904206 | C9: chr16:28904206:G:A | D9: rs10499 | E9: 16p11.2 | F9: A | G9: G | H9: RABEP2, ATP2A1 | I9: 0.053 | J9: 1.13 × 10–9 | K9: A | L9: G | M9: 0.245939 | N9: 4576 | O9: 3 | P9: +-- | Q9: 0.00805486 | R9: 0.0602269 | S9: 0.884826 | T9: 1995 | U9: 0.16919935 | V9: 0.12648797 | W9: 0.087549999 | X9: 0.18100355 | Y9: 801 | Z9: -0.087243994 | AA9: 0.11596559 | AB9: 0.38416001 | AC9: 0.45185471 | AD9: 1780 | AE9: -0.0079499007 | AF9: 0.073216834 | AG9: 0.36126 | AH9: 0.91353544
A10: 17 | B10: 2203796 | C10: chr17:2203796:C:T | D10: rs17761723 | E10: 17p13.3 | F10: T | G10: C | H10: SMG6 | I10: 0.047 | J10: 3.24 × 10–8 | K10: T | L10: C | M10: 0.237117 | N10: 4576 | O10: 3 | P10: --+ | Q10: -0.00316679 | R10: 0.0423335 | S10: 0.953986 | T10: 1995 | U10: -0.12061922 | V10: 0.13246753 | W10: 0.071730003 | X10: 0.3625289 | Y10: 801 | Z10: -0.022995881 | AA10: 0.10832428 | AB10: 0.38773999 | AC10: 0.83188282 | AD10: 1780 | AE10: 0.041004906 | AF10: 0.072588359 | AG10: 0.3547 | AH10: 0.5721442
A11: Total SNPs with p-value < 0.01 | S11: =COUNTIF(S3:S10, "<0.01") -> 0 | X11: =COUNTIF(X3:X10, "<0.01") -> 0 | AC11: =COUNTIF(AC3:AC10, "<0.01") -> 0 | AH11: =COUNTIF(AH3:AH10, "<0.01") -> 0

Sheet Suppl. T9
A1: Supplementary Table 9: Replication of GWAS findings from Pasman et al. for cannabis initiation to frequency of cannabis use standardized to last 30 days in PLWH within and across ancestries. | F1: Pasman | K1: MR-MEGA | T1: AFR | Y1: AMR | AD1: EUR
A2: Chromosome | B2: Position | C2: MarkerName | D2: rsID | E2: Locus | F2: A1 | G2: A2 | H2: Gene | I2: Beta | J2: P | K2: EA | L2: NEA | M2: MAF | N2: Nsample | O2: Ncohort | P2: Effects | Q2: Est | R2: Est.SE | S2: P | T2: n.obs | U2: Est | V2: Est.SE | W2: MAF | X2: P | Y2: n.obs | Z2: Est | AA2: Est.SE | AB2: MAF | AC2: P | AD2: n.obs | AE2: Est | AF2: Est.SE | AG2: MAF | AH2: P
A3: 3 | B3: 85469430 | C3: chr3:85469430:A:G | D3: rs2875907 | E3: 3p12.1 | F3: A | G3: G | H3: CADM2 | I3: 0.07 | J3: 9.38 × 10–17 | K3: G | L3: A | M3: 0.371507 | N3: 2070 | O3: 3 | P3: --- | Q3: -0.0840643 | R3: 0.0316223 | S3: 0.207763 | T3: 938 | U3: -0.044884795 | V3: 0.095169988 | W3: 0.40630999 | X3: 0.63719261 | Y3: 364 | Z3: -0.074141777 | AA3: 0.16887103 | AB3: 0.31353 | AC3: 0.6606298 | AD3: 768 | AE3: -0.14315752 | AF3: 0.11244492 | AG3: 0.35648 | AH3: 0.20297027
A4: 3 | B4: 85731304 | C4: chr3:85731304:A:G | D4: rs1448602 | E4: 3p12.1 | F4: A | G4: G | H4: CADM2 | I4: –0.062 | J4: 6.55 × 10–11 | K4: G | L4: A | M4: 0.151309 | N4: 2070 | O4: 3 | P4: -++ | Q4: 0.0773688 | R4: 0.0803802 | S4: 0.407876 | T4: 938 | U4: -0.0007051833 | V4: 0.19595141 | W4: 0.067939997 | X4: 0.99712861 | Y4: 364 | Z4: 0.30310406 | AA4: 0.20879507 | AB4: 0.18104 | AC4: 0.14659002 | AD4: 768 | AE4: 0.029322776 | AF4: 0.12360736 | AG4: 0.23904 | AH4: 0.81248212
A5: 3 | B5: 85008198 | C5: chr3:85008198:G:T | D5: rs7651996 | E5: 3p12.1 | F5: T | G5: G | H5: CADM2 | I5: 0.049 | J5: 2.37 × 10–9 | K5: T | L5: G | M5: 0.444996 | N5: 2070 | O5: 3 | P5: --+ | Q5: 0.00518191 | R5: 0.0654259 | S5: 0.935202 | T5: 938 | U5: -0.040338946 | V5: 0.093641066 | W5: 0.42872 | X5: 0.66662642 | Y5: 364 | Z5: -0.11700136 | AA5: 0.15234813 | AB5: 0.42511001 | AC5: 0.44249498 | AD5: 768 | AE5: 0.12261914 | AF5: 0.1059812 | AG5: 0.4743 | AH5: 0.24727663
A6: 7 | B6: 3595079 | C6: chr7:3595079:A:T | D6: rs10085617 | E6: 7p22.2 | F6: A | G6: T | H6: SDK1 | I6: 0.046 | J6: 2.93 × 10–8 | K6: T | L6: A | M6: 0.326826 | N6: 2070 | O6: 3 | P6: --- | Q6: -0.117391 | R6: 0.0748254 | S6: 0.0941685 | T6: 938 | U6: -0.25128002 | V6: 0.11395855 | W6: 0.23122001 | X6: 0.027453219 | Y6: 364 | Z6: -0.0057738131 | AA6: 0.15622001 | AB6: 0.37355 | AC6: 0.9705173 | AD6: 768 | AE6: -0.050161635 | AF6: 0.10825992 | AG6: 0.42144999 | AH6: 0.64311747
A7: 8 | B7: 80653457 | C7: chr8:80653457:T:C | D7: rs9773390 | E7: 8q21.13 | F7: T | G7: C | H7: ZNF704 | I7: –0.171 | J7: 5.66 × 10–9 | K7: C | L7: T | M7: 0.201048 | N7: 2070 | O7: 3 | P7: +-- | Q7: 0.0708393 | R7: 0.0607171 | S7: 0.404671 | T7: 938 | U7: 0.11909964 | V7: 0.098067638 | W7: 0.36311999 | X7: 0.22457048 | Y7: 364 | Z7: -0.022545808 | AA7: 0.29832436 | AB7: 0.074579999 | AC7: 0.93975738 | AD7: 768 | AE7: -0.1005233 | AF7: 0.20779211 | AG7: 0.063040003 | AH7: 0.62855011
A8: 11 | B8: 113006686 | C8: chr11:113006686:T:C | D8: rs9919557 | E8: 11q23.2 | F8: T | G8: C | H8: NCAM1 | I8: –0.055 | J8: 9.94 × 10–11 | K8: C | L8: T | M8: 0.408007 | N8: 2070 | O8: 3 | P8: -+- | Q8: 0.0196284 | R8: 0.0901024 | S8: 0.764151 | T8: 938 | U8: -0.044512535 | V8: 0.09854494 | W8: 0.39579001 | X8: 0.65148669 | Y8: 364 | Z8: 0.29185053 | AA8: 0.15439188 | AB8: 0.45997 | AC8: 0.058714769 | AD8: 768 | AE8: -0.034642602 | AF8: 0.10616263 | AG8: 0.39829999 | AH8: 0.74418502
A9: 16 | B9: 28904206 | C9: chr16:28904206:G:A | D9: rs10499 | E9: 16p11.2 | F9: A | G9: G | H9: RABEP2, ATP2A1 | I9: 0.053 | J9: 1.13 × 10–9 | K9: A | L9: G | M9: 0.241258 | N9: 2070 | O9: 3 | P9: -++ | Q9: 0.0979334 | R9: 0.0662467 | S9: 0.236611 | T9: 938 | U9: -0.034618843 | V9: 0.18525858 | W9: 0.087549999 | X9: 0.85176437 | Y9: 364 | Z9: 0.017612184 | AA9: 0.16899764 | AB9: 0.38416001 | AC9: 0.91699828 | AD9: 768 | AE9: 0.17943888 | AF9: 0.11050551 | AG9: 0.36126 | AH9: 0.10441844
A10: 17 | B10: 2203796 | C10: chr17:2203796:C:T | D10: rs17761723 | E10: 17p13.3 | F10: T | G10: C | H10: SMG6 | I10: 0.047 | J10: 3.24 × 10–8 | K10: T | L10: C | M10: 0.232285 | N10: 2070 | O10: 3 | P10: -++ | Q10: -0.0631849 | R10: 0.205168 | S10: 0.439983 | T10: 938 | U10: -0.68953713 | V10: 0.19467149 | W10: 0.071730003 | X10: 0.00039702253 | Y10: 364 | Z10: 0.06593413 | AA10: 0.1594247 | AB10: 0.38773999 | AC10: 0.67918512 | AD10: 768 | AE10: 0.073689145 | AF10: 0.10934618 | AG10: 0.3547 | AH10: 0.50037052
A11: Total SNPs with p-value < 0.01 | S11: =COUNTIF(S3:S10, "<0.01") -> 0 | X11: =COUNTIF(X3:X10, "<0.01") -> 1 | AC11: =COUNTIF(AC3:AC10, "<0.01") -> 0 | AH11: =COUNTIF(AH3:AH10, "<0.01") -> 0
